BEGIN:VCALENDAR
VERSION:2.0
PRODID:-//Firstserve Tournaments - ECPv6.15.14//NONSGML v1.0//EN
CALSCALE:GREGORIAN
METHOD:PUBLISH
X-WR-CALNAME:Firstserve Tournaments
X-ORIGINAL-URL:https://firstserve-tournaments.de
X-WR-CALDESC:Veranstaltungen für Firstserve Tournaments
REFRESH-INTERVAL;VALUE=DURATION:PT1H
X-Robots-Tag:noindex
X-PUBLISHED-TTL:PT1H
BEGIN:VTIMEZONE
TZID:UTC
BEGIN:STANDARD
TZOFFSETFROM:+0000
TZOFFSETTO:+0000
TZNAME:UTC
DTSTART:20240101T000000
END:STANDARD
END:VTIMEZONE
BEGIN:VEVENT
DTSTART;VALUE=DATE:20251220
DTEND;VALUE=DATE:20251221
DTSTAMP:20260422T191629
CREATED:20251028T103050Z
LAST-MODIFIED:20251028T103301Z
UID:10000097-1766188800-1766275199@firstserve-tournaments.de
SUMMARY:First Serve Tournaments Hallen-LK Turnier @Matchpoint MG/ RIMA Halle/ Giesenkirchen
DESCRIPTION:Anmeldung & Informationen
URL:https://firstserve-tournaments.de/event/first-serve-tournaments-hallen-lk-turnier-matchpoint-mg-rima-halle-giesenkirchen-8/
LOCATION:Matchpoint MG\, Duvenstr. 269\, Mönchengladbach\, Nordrhein-Westfalen\, 41199\, Germany
END:VEVENT
BEGIN:VEVENT
DTSTART;VALUE=DATE:20251221
DTEND;VALUE=DATE:20251222
DTSTAMP:20260422T191629
CREATED:20251028T103136Z
LAST-MODIFIED:20251028T103257Z
UID:10000098-1766275200-1766361599@firstserve-tournaments.de
SUMMARY:First Serve Tournaments Hallen-Mixed LK Turnier @Matchpoint MG/ RIMA Halle/ Giesenkirchen
DESCRIPTION:Anmeldung & Informationen
URL:https://firstserve-tournaments.de/event/first-serve-tournaments-hallen-mixed-lk-turnier-matchpoint-mg-rima-halle-giesenkirchen/
LOCATION:Matchpoint MG\, Duvenstr. 269\, Mönchengladbach\, Nordrhein-Westfalen\, 41199\, Germany
END:VEVENT
BEGIN:VEVENT
DTSTART;VALUE=DATE:20251227
DTEND;VALUE=DATE:20251228
DTSTAMP:20260422T191629
CREATED:20251028T103229Z
LAST-MODIFIED:20251028T103253Z
UID:10000099-1766793600-1766879999@firstserve-tournaments.de
SUMMARY:First Serve Tournaments Hallen-LK Turnier @Matchpoint MG/ RIMA Halle/ Giesenkirchen
DESCRIPTION:Anmeldung & Informationen
URL:https://firstserve-tournaments.de/event/first-serve-tournaments-hallen-lk-turnier-matchpoint-mg-rima-halle-giesenkirchen-9/
LOCATION:Matchpoint MG\, Duvenstr. 269\, Mönchengladbach\, Nordrhein-Westfalen\, 41199\, Germany
END:VEVENT
BEGIN:VEVENT
DTSTART;VALUE=DATE:20251228
DTEND;VALUE=DATE:20251229
DTSTAMP:20260422T191629
CREATED:20251028T103342Z
LAST-MODIFIED:20251028T103342Z
UID:10000100-1766880000-1766966399@firstserve-tournaments.de
SUMMARY:First Serve Tournaments Hallen-Doppel LK Turnier @Matchpoint MG/ RIMA Halle/ Giesenkirchen
DESCRIPTION:Anmeldung & Informationen
URL:https://firstserve-tournaments.de/event/first-serve-tournaments-hallen-doppel-lk-turnier-matchpoint-mg-rima-halle-giesenkirchen/
LOCATION:Matchpoint MG\, Duvenstr. 269\, Mönchengladbach\, Nordrhein-Westfalen\, 41199\, Germany
END:VEVENT
BEGIN:VEVENT
DTSTART;VALUE=DATE:20251228
DTEND;VALUE=DATE:20251229
DTSTAMP:20260422T191629
CREATED:20251028T103851Z
LAST-MODIFIED:20251028T103851Z
UID:10000101-1766880000-1766966399@firstserve-tournaments.de
SUMMARY:FirstServeTournaments Einzel Hallen LK Turnier @Loherhof
DESCRIPTION:Anmeldung & Informationen
URL:https://firstserve-tournaments.de/event/firstservetournaments-einzel-hallen-lk-turnier-loherhof/
LOCATION:Loherhof Geilenkirchen\, Pater-Briers-Weg 85\, Geilenkirchen\, 52511\, Germany
END:VEVENT
END:VCALENDAR