BEGIN:VCALENDAR
VERSION:2.0
PRODID:-//Firstserve Tournaments - ECPv6.15.14//NONSGML v1.0//EN
CALSCALE:GREGORIAN
METHOD:PUBLISH
X-WR-CALNAME:Firstserve Tournaments
X-ORIGINAL-URL:https://firstserve-tournaments.de
X-WR-CALDESC:Veranstaltungen für Firstserve Tournaments
REFRESH-INTERVAL;VALUE=DURATION:PT1H
X-Robots-Tag:noindex
X-PUBLISHED-TTL:PT1H
BEGIN:VTIMEZONE
TZID:UTC
BEGIN:STANDARD
TZOFFSETFROM:+0000
TZOFFSETTO:+0000
TZNAME:UTC
DTSTART:20240101T000000
END:STANDARD
END:VTIMEZONE
BEGIN:VEVENT
DTSTART;VALUE=DATE:20251101
DTEND;VALUE=DATE:20251109
DTSTAMP:20260422T190821
CREATED:20250221T124154Z
LAST-MODIFIED:20251029T095600Z
UID:10000052-1761955200-1762646399@firstserve-tournaments.de
SUMMARY:Robinson Club Daidalos
DESCRIPTION:Jetzt Reise buchen
URL:https://firstserve-tournaments.de/event/robinson-club-daidalos/
LOCATION:Nordrhein-Westfalen
END:VEVENT
BEGIN:VEVENT
DTSTART;VALUE=DATE:20251103
DTEND;VALUE=DATE:20251104
DTSTAMP:20260422T190821
CREATED:20251028T102502Z
LAST-MODIFIED:20251028T102502Z
UID:10000089-1762128000-1762214399@firstserve-tournaments.de
SUMMARY:First Serve Tournaments „Manic Monday“@Matchpoint MG
DESCRIPTION:Anmeldung & Informationen
URL:https://firstserve-tournaments.de/event/first-serve-tournaments-manic-mondaymatchpoint-mg-6/
LOCATION:Matchpoint MG\, Duvenstr. 269\, Mönchengladbach\, Nordrhein-Westfalen\, 41199\, Germany
END:VEVENT
BEGIN:VEVENT
DTSTART;VALUE=DATE:20251107
DTEND;VALUE=DATE:20251108
DTSTAMP:20260422T190821
CREATED:20251028T102620Z
LAST-MODIFIED:20251028T102620Z
UID:10000090-1762473600-1762559999@firstserve-tournaments.de
SUMMARY:First Serve Tournaments „Freaky Friday“ @Tennishalle Giesenkirchen
DESCRIPTION:Anmeldung & Informationen
URL:https://firstserve-tournaments.de/event/first-serve-tournaments-freaky-friday-tennishalle-giesenkirchen-5/
LOCATION:TC Giesenkirchen\, Trimpelshütter Str. 34C\, Mönchengladbach\, Nordrhein-Westfalen\, 41238
END:VEVENT
BEGIN:VEVENT
DTSTART;VALUE=DATE:20251110
DTEND;VALUE=DATE:20251111
DTSTAMP:20260422T190821
CREATED:20251028T102650Z
LAST-MODIFIED:20251028T102650Z
UID:10000091-1762732800-1762819199@firstserve-tournaments.de
SUMMARY:First Serve Tournaments „Manic Monday“@Matchpoint MG
DESCRIPTION:Anmeldung & Informationen
URL:https://firstserve-tournaments.de/event/first-serve-tournaments-manic-mondaymatchpoint-mg-7/
LOCATION:Matchpoint MG\, Duvenstr. 269\, Mönchengladbach\, Nordrhein-Westfalen\, 41199\, Germany
END:VEVENT
BEGIN:VEVENT
DTSTART;VALUE=DATE:20251114
DTEND;VALUE=DATE:20251115
DTSTAMP:20260422T190821
CREATED:20251028T102737Z
LAST-MODIFIED:20251028T102737Z
UID:10000092-1763078400-1763164799@firstserve-tournaments.de
SUMMARY:First Serve Tournaments „Freaky Friday“ @Tennishalle Giesenkirchen
DESCRIPTION:Anmeldung & Informationen
URL:https://firstserve-tournaments.de/event/first-serve-tournaments-freaky-friday-tennishalle-giesenkirchen-6/
LOCATION:TC Giesenkirchen\, Trimpelshütter Str. 34C\, Mönchengladbach\, Nordrhein-Westfalen\, 41238
END:VEVENT
BEGIN:VEVENT
DTSTART;VALUE=DATE:20251117
DTEND;VALUE=DATE:20251118
DTSTAMP:20260422T190821
CREATED:20251028T102813Z
LAST-MODIFIED:20251028T103540Z
UID:10000093-1763337600-1763423999@firstserve-tournaments.de
SUMMARY:First Serve Tournaments „Manic Monday“@Matchpoint MG
DESCRIPTION:Anmeldung & Informationen
URL:https://firstserve-tournaments.de/event/first-serve-tournaments-manic-mondaymatchpoint-mg-8/
LOCATION:Matchpoint MG\, Duvenstr. 269\, Mönchengladbach\, Nordrhein-Westfalen\, 41199\, Germany
END:VEVENT
BEGIN:VEVENT
DTSTART;VALUE=DATE:20251121
DTEND;VALUE=DATE:20251122
DTSTAMP:20260422T190821
CREATED:20251028T102847Z
LAST-MODIFIED:20251028T102847Z
UID:10000094-1763683200-1763769599@firstserve-tournaments.de
SUMMARY:First Serve Tournaments „Freaky Friday“ @Tennishalle Giesenkirchen
DESCRIPTION:Anmeldung & Informationen
URL:https://firstserve-tournaments.de/event/first-serve-tournaments-freaky-friday-tennishalle-giesenkirchen-7/
LOCATION:TC Giesenkirchen\, Trimpelshütter Str. 34C\, Mönchengladbach\, Nordrhein-Westfalen\, 41238
END:VEVENT
BEGIN:VEVENT
DTSTART;VALUE=DATE:20251124
DTEND;VALUE=DATE:20251125
DTSTAMP:20260422T190821
CREATED:20251028T102916Z
LAST-MODIFIED:20251028T102916Z
UID:10000095-1763942400-1764028799@firstserve-tournaments.de
SUMMARY:First Serve Tournaments „Manic Monday“@Matchpoint MG
DESCRIPTION:Anmeldung & Informationen
URL:https://firstserve-tournaments.de/event/first-serve-tournaments-manic-mondaymatchpoint-mg-9/
LOCATION:Matchpoint MG\, Duvenstr. 269\, Mönchengladbach\, Nordrhein-Westfalen\, 41199\, Germany
END:VEVENT
BEGIN:VEVENT
DTSTART;VALUE=DATE:20251128
DTEND;VALUE=DATE:20251129
DTSTAMP:20260422T190821
CREATED:20251028T102947Z
LAST-MODIFIED:20251028T102947Z
UID:10000096-1764288000-1764374399@firstserve-tournaments.de
SUMMARY:First Serve Tournaments „Freaky Friday“ @Tennishalle Giesenkirchen
DESCRIPTION:Anmeldung & Informationen
URL:https://firstserve-tournaments.de/event/first-serve-tournaments-freaky-friday-tennishalle-giesenkirchen-8/
LOCATION:TC Giesenkirchen\, Trimpelshütter Str. 34C\, Mönchengladbach\, Nordrhein-Westfalen\, 41238
END:VEVENT
END:VCALENDAR