BEGIN:VCALENDAR
VERSION:2.0
PRODID:-//Firstserve Tournaments - ECPv6.15.14//NONSGML v1.0//EN
CALSCALE:GREGORIAN
METHOD:PUBLISH
X-ORIGINAL-URL:https://firstserve-tournaments.de
X-WR-CALDESC:Veranstaltungen für Firstserve Tournaments
REFRESH-INTERVAL;VALUE=DURATION:PT1H
X-Robots-Tag:noindex
X-PUBLISHED-TTL:PT1H
BEGIN:VTIMEZONE
TZID:UTC
BEGIN:STANDARD
TZOFFSETFROM:+0000
TZOFFSETTO:+0000
TZNAME:UTC
DTSTART:20240101T000000
END:STANDARD
END:VTIMEZONE
BEGIN:VEVENT
DTSTART;VALUE=DATE:20250926
DTEND;VALUE=DATE:20251004
DTSTAMP:20260422T155244
CREATED:20250117T143916Z
LAST-MODIFIED:20250221T122554Z
UID:10000046-1758844800-1759535999@firstserve-tournaments.de
SUMMARY:LK Turnier Robinson Club Kyllini Beach
DESCRIPTION:DTB AnmeldungZur Buchung
URL:https://firstserve-tournaments.de/event/lk-turnier-robinson-club-kyllini-beach-4/
LOCATION:Nordrhein-Westfalen
END:VEVENT
BEGIN:VEVENT
DTSTART;VALUE=DATE:20251004
DTEND;VALUE=DATE:20251005
DTSTAMP:20260422T155244
CREATED:20250919T144245Z
LAST-MODIFIED:20250919T144245Z
UID:10000074-1759536000-1759622399@firstserve-tournaments.de
SUMMARY:First Serve Tournaments Hallen-LK Turnier @Matchpoint MG/ RIMA Halle/ Giesenkirchen
DESCRIPTION:Anmeldung & Informationen
URL:https://firstserve-tournaments.de/event/first-serve-tournaments-hallen-lk-turnier-matchpoint-mg-rima-halle-giesenkirchen/
LOCATION:RIMA Sporthalle\, Waldnieler Str. 145\, Mönchengladbach\, Nordrhein-Westfalen\, 41068\, Germany
END:VEVENT
BEGIN:VEVENT
DTSTART;VALUE=DATE:20251005
DTEND;VALUE=DATE:20251006
DTSTAMP:20260422T155244
CREATED:20250919T144324Z
LAST-MODIFIED:20250919T144324Z
UID:10000075-1759622400-1759708799@firstserve-tournaments.de
SUMMARY:First Serve Tournaments Hallen-LK Turnier @Matchpoint MG/ RIMA Halle/ Giesenkirchen
DESCRIPTION:Anmeldung & Informationen
URL:https://firstserve-tournaments.de/event/first-serve-tournaments-hallen-lk-turnier-matchpoint-mg-rima-halle-giesenkirchen-2/
LOCATION:RIMA Sporthalle\, Waldnieler Str. 145\, Mönchengladbach\, Nordrhein-Westfalen\, 41068\, Germany
END:VEVENT
BEGIN:VEVENT
DTSTART;VALUE=DATE:20251006
DTEND;VALUE=DATE:20251007
DTSTAMP:20260422T155244
CREATED:20250919T144404Z
LAST-MODIFIED:20250919T144417Z
UID:10000076-1759708800-1759795199@firstserve-tournaments.de
SUMMARY:First Serve Tournaments „Manic Monday“@Matchpoint MG
DESCRIPTION:Anmeldung & Informationen
URL:https://firstserve-tournaments.de/event/first-serve-tournaments-manic-mondaymatchpoint-mg-2/
LOCATION:Matchpoint MG\, Duvenstr. 269\, Mönchengladbach\, Nordrhein-Westfalen\, 41199\, Germany
END:VEVENT
BEGIN:VEVENT
DTSTART;VALUE=DATE:20251010
DTEND;VALUE=DATE:20251011
DTSTAMP:20260422T155244
CREATED:20250919T144602Z
LAST-MODIFIED:20250919T144602Z
UID:10000077-1760054400-1760140799@firstserve-tournaments.de
SUMMARY:First Serve Tournaments „Freaky Friday“ @Tennishalle Giesenkirchen
DESCRIPTION:Anmeldung & Informationen
URL:https://firstserve-tournaments.de/event/first-serve-tournaments-freaky-friday-tennishalle-giesenkirchen/
LOCATION:TC Giesenkirchen\, Trimpelshütter Str. 34C\, Mönchengladbach\, Nordrhein-Westfalen\, 41238
END:VEVENT
BEGIN:VEVENT
DTSTART;VALUE=DATE:20251011
DTEND;VALUE=DATE:20251012
DTSTAMP:20260422T155244
CREATED:20250919T144651Z
LAST-MODIFIED:20250919T144651Z
UID:10000078-1760140800-1760227199@firstserve-tournaments.de
SUMMARY:First Serve Tournaments Hallen-LK Turnier @Matchpoint MG/ RIMA Halle/ Giesenkirchen
DESCRIPTION:Anmeldung & Informationen
URL:https://firstserve-tournaments.de/event/first-serve-tournaments-hallen-lk-turnier-matchpoint-mg-rima-halle-giesenkirchen-3/
LOCATION:RIMA Sporthalle\, Waldnieler Str. 145\, Mönchengladbach\, Nordrhein-Westfalen\, 41068\, Germany
END:VEVENT
BEGIN:VEVENT
DTSTART;VALUE=DATE:20251012
DTEND;VALUE=DATE:20251013
DTSTAMP:20260422T155244
CREATED:20250919T144724Z
LAST-MODIFIED:20250919T144724Z
UID:10000079-1760227200-1760313599@firstserve-tournaments.de
SUMMARY:First Serve Tournaments Hallen-LK Turnier @Matchpoint MG/ RIMA Halle/ Giesenkirchen
DESCRIPTION:Anmeldung & Informationen
URL:https://firstserve-tournaments.de/event/first-serve-tournaments-hallen-lk-turnier-matchpoint-mg-rima-halle-giesenkirchen-4/
LOCATION:RIMA Sporthalle\, Waldnieler Str. 145\, Mönchengladbach\, Nordrhein-Westfalen\, 41068\, Germany
END:VEVENT
BEGIN:VEVENT
DTSTART;VALUE=DATE:20251013
DTEND;VALUE=DATE:20251014
DTSTAMP:20260422T155244
CREATED:20250919T144756Z
LAST-MODIFIED:20250919T144756Z
UID:10000080-1760313600-1760399999@firstserve-tournaments.de
SUMMARY:First Serve Tournaments „Manic Monday“@Matchpoint MG
DESCRIPTION:Anmeldung & Informationen
URL:https://firstserve-tournaments.de/event/first-serve-tournaments-manic-mondaymatchpoint-mg-3/
LOCATION:Matchpoint MG\, Duvenstr. 269\, Mönchengladbach\, Nordrhein-Westfalen\, 41199\, Germany
END:VEVENT
BEGIN:VEVENT
DTSTART;VALUE=DATE:20251017
DTEND;VALUE=DATE:20251018
DTSTAMP:20260422T155244
CREATED:20250919T144831Z
LAST-MODIFIED:20250919T144831Z
UID:10000081-1760659200-1760745599@firstserve-tournaments.de
SUMMARY:First Serve Tournaments „Freaky Friday“ @Tennishalle Giesenkirchen
DESCRIPTION:Anmeldung & Informationen
URL:https://firstserve-tournaments.de/event/first-serve-tournaments-freaky-friday-tennishalle-giesenkirchen-2/
LOCATION:TC Giesenkirchen\, Trimpelshütter Str. 34C\, Mönchengladbach\, Nordrhein-Westfalen\, 41238
END:VEVENT
BEGIN:VEVENT
DTSTART;VALUE=DATE:20251018
DTEND;VALUE=DATE:20251019
DTSTAMP:20260422T155244
CREATED:20250922T082052Z
LAST-MODIFIED:20250922T082052Z
UID:10000088-1760745600-1760831999@firstserve-tournaments.de
SUMMARY:First Serve Tournaments Hallen-LK Turnier @Matchpoint MG/ RIMA Halle/ Giesenkirchen
DESCRIPTION:Anmeldung & Informationen
URL:https://firstserve-tournaments.de/event/first-serve-tournaments-hallen-lk-turnier-matchpoint-mg-rima-halle-giesenkirchen-6/
LOCATION:RIMA Sporthalle\, Waldnieler Str. 145\, Mönchengladbach\, Nordrhein-Westfalen\, 41068\, Germany
END:VEVENT
BEGIN:VEVENT
DTSTART;VALUE=DATE:20251019
DTEND;VALUE=DATE:20251020
DTSTAMP:20260422T155244
CREATED:20250922T082122Z
LAST-MODIFIED:20250922T082122Z
UID:10000087-1760832000-1760918399@firstserve-tournaments.de
SUMMARY:First Serve Tournaments Hallen-LK Turnier @Matchpoint MG/ RIMA Halle/ Giesenkirchen
DESCRIPTION:Anmeldung & Informationen
URL:https://firstserve-tournaments.de/event/first-serve-tournaments-hallen-lk-turnier-matchpoint-mg-rima-halle-giesenkirchen-7/
LOCATION:RIMA Sporthalle\, Waldnieler Str. 145\, Mönchengladbach\, Nordrhein-Westfalen\, 41068\, Germany
END:VEVENT
BEGIN:VEVENT
DTSTART;VALUE=DATE:20251020
DTEND;VALUE=DATE:20251021
DTSTAMP:20260422T155244
CREATED:20250919T144903Z
LAST-MODIFIED:20250919T144903Z
UID:10000082-1760918400-1761004799@firstserve-tournaments.de
SUMMARY:First Serve Tournaments „Manic Monday“@Matchpoint MG
DESCRIPTION:Anmeldung & Informationen
URL:https://firstserve-tournaments.de/event/first-serve-tournaments-manic-mondaymatchpoint-mg-4/
LOCATION:Matchpoint MG\, Duvenstr. 269\, Mönchengladbach\, Nordrhein-Westfalen\, 41199\, Germany
END:VEVENT
BEGIN:VEVENT
DTSTART;VALUE=DATE:20251024
DTEND;VALUE=DATE:20251025
DTSTAMP:20260422T155244
CREATED:20250919T144927Z
LAST-MODIFIED:20250919T145154Z
UID:10000083-1761264000-1761350399@firstserve-tournaments.de
SUMMARY:First Serve Tournaments „Freaky Friday“ @Tennishalle Giesenkirchen
DESCRIPTION:Anmeldung & Informationen
URL:https://firstserve-tournaments.de/event/first-serve-tournaments-freaky-friday-tennishalle-giesenkirchen-3/
LOCATION:TC Giesenkirchen\, Trimpelshütter Str. 34C\, Mönchengladbach\, Nordrhein-Westfalen\, 41238
END:VEVENT
BEGIN:VEVENT
DTSTART;VALUE=DATE:20251026
DTEND;VALUE=DATE:20251027
DTSTAMP:20260422T155244
CREATED:20250919T144955Z
LAST-MODIFIED:20250919T144955Z
UID:10000084-1761436800-1761523199@firstserve-tournaments.de
SUMMARY:First Serve Tournaments Hallen-LK Turnier @Matchpoint MG/ RIMA Halle/ Giesenkirchen
DESCRIPTION:Anmeldung & Informationen
URL:https://firstserve-tournaments.de/event/first-serve-tournaments-hallen-lk-turnier-matchpoint-mg-rima-halle-giesenkirchen-5/
LOCATION:RIMA Sporthalle\, Waldnieler Str. 145\, Mönchengladbach\, Nordrhein-Westfalen\, 41068\, Germany
END:VEVENT
BEGIN:VEVENT
DTSTART;VALUE=DATE:20251027
DTEND;VALUE=DATE:20251028
DTSTAMP:20260422T155244
CREATED:20250919T145031Z
LAST-MODIFIED:20250919T150649Z
UID:10000085-1761523200-1761609599@firstserve-tournaments.de
SUMMARY:First Serve Tournaments „Manic Monday“@Matchpoint MG
DESCRIPTION:Anmeldung & Informationen
URL:https://firstserve-tournaments.de/event/first-serve-tournaments-manic-mondaymatchpoint-mg-5/
LOCATION:Matchpoint MG\, Duvenstr. 269\, Mönchengladbach\, Nordrhein-Westfalen\, 41199\, Germany
END:VEVENT
BEGIN:VEVENT
DTSTART;VALUE=DATE:20251031
DTEND;VALUE=DATE:20251101
DTSTAMP:20260422T155244
CREATED:20250919T145121Z
LAST-MODIFIED:20250919T145121Z
UID:10000086-1761868800-1761955199@firstserve-tournaments.de
SUMMARY:First Serve Tournaments „Freaky Friday“ @Tennishalle Giesenkirchen
DESCRIPTION:Anmeldung & Informationen
URL:https://firstserve-tournaments.de/event/first-serve-tournaments-freaky-friday-tennishalle-giesenkirchen-4/
LOCATION:TC Giesenkirchen\, Trimpelshütter Str. 34C\, Mönchengladbach\, Nordrhein-Westfalen\, 41238
END:VEVENT
END:VCALENDAR