BEGIN:VCALENDAR
VERSION:2.0
PRODID:-//Firstserve Tournaments - ECPv6.15.14//NONSGML v1.0//EN
CALSCALE:GREGORIAN
METHOD:PUBLISH
X-WR-CALNAME:Firstserve Tournaments
X-ORIGINAL-URL:https://firstserve-tournaments.de
X-WR-CALDESC:Veranstaltungen für Firstserve Tournaments
REFRESH-INTERVAL;VALUE=DURATION:PT1H
X-Robots-Tag:noindex
X-PUBLISHED-TTL:PT1H
BEGIN:VTIMEZONE
TZID:UTC
BEGIN:STANDARD
TZOFFSETFROM:+0000
TZOFFSETTO:+0000
TZNAME:UTC
DTSTART:20250101T000000
END:STANDARD
END:VTIMEZONE
BEGIN:VEVENT
DTSTART;VALUE=DATE:20260801
DTEND;VALUE=DATE:20260802
DTSTAMP:20260419T122318
CREATED:20260227T140204Z
LAST-MODIFIED:20260327T142021Z
UID:10000151-1785542400-1785628799@firstserve-tournaments.de
SUMMARY:First Serve Tournaments LK Turnier @TC Giesenkirchen
DESCRIPTION:Anmeldung & Informationen
URL:https://firstserve-tournaments.de/event/first-serve-tournaments-lk-turnier-tc-giesenkirchen-2/
LOCATION:TC Giesenkirchen\, Trimpelshütter Str. 34C\, Mönchengladbach\, Nordrhein-Westfalen\, 41238
END:VEVENT
BEGIN:VEVENT
DTSTART;VALUE=DATE:20260806
DTEND;VALUE=DATE:20260810
DTSTAMP:20260419T122318
CREATED:20260227T140701Z
LAST-MODIFIED:20260327T142202Z
UID:10000157-1785974400-1786319999@firstserve-tournaments.de
SUMMARY:First Serve Tournaments Ranglistenturnier @TC Schiefbahn
DESCRIPTION:Anmeldung AktiveAnmeldung JugendAnmeldung Senioren
URL:https://firstserve-tournaments.de/event/first-serve-tournaments-ranglistenturnier-tc-schiefbahn/
LOCATION:TC Schiefbahn
END:VEVENT
BEGIN:VEVENT
DTSTART;VALUE=DATE:20260820
DTEND;VALUE=DATE:20260824
DTSTAMP:20260419T122318
CREATED:20260227T140802Z
LAST-MODIFIED:20260327T142219Z
UID:10000158-1787184000-1787529599@firstserve-tournaments.de
SUMMARY:First Serve Tournaments Ranglistenturnier @Hülser SV
DESCRIPTION:Anmeldung AktiveAnmeldung JugendAnmeldung Senioren
URL:https://firstserve-tournaments.de/event/first-serve-tournaments-ranglistenturnier-huelser-sv/
LOCATION:Hülser SV\, Hölschen Dyk\, Krefeld\, Nordrhein-Westfalen\, 47839\, Germany
END:VEVENT
BEGIN:VEVENT
DTSTART;VALUE=DATE:20260830
DTEND;VALUE=DATE:20260831
DTSTAMP:20260419T122318
CREATED:20260227T140240Z
LAST-MODIFIED:20260327T142032Z
UID:10000152-1788048000-1788134399@firstserve-tournaments.de
SUMMARY:First Serve Tournaments LK Turnier @Gladbacher Hockey- und Tennis Club (GHTC)
DESCRIPTION:Anmeldung & Informationen
URL:https://firstserve-tournaments.de/event/first-serve-tournaments-lk-turnier-gladbacher-hockey-und-tennis-club-ghtc-4/
LOCATION:Gladbacher Hockey- und Tennisclub\, An den Holter Sportstätten 11\, Mönchengladbach\, Nordrhein-Westfalen\, 41069\, Deutschland
END:VEVENT
BEGIN:VEVENT
DTSTART;VALUE=DATE:20260830
DTEND;VALUE=DATE:20260831
DTSTAMP:20260419T122318
CREATED:20260227T140310Z
LAST-MODIFIED:20260327T142044Z
UID:10000153-1788048000-1788134399@firstserve-tournaments.de
SUMMARY:First Serve Tournaments LK Turnier @RTHC Bayer Leverkusen
DESCRIPTION:Anmeldung & Informationen
URL:https://firstserve-tournaments.de/event/first-serve-tournaments-lk-turnier-rthc-bayer-leverkusen-3/
LOCATION:RTHC Leverkusen\, Knochenbergsweg\, Leverkusen\, Nordrhein-Westfalen\, 51373\, Germany
END:VEVENT
BEGIN:VEVENT
DTSTART;VALUE=DATE:20260905
DTEND;VALUE=DATE:20260906
DTSTAMP:20260419T122318
CREATED:20260227T140339Z
LAST-MODIFIED:20260327T142056Z
UID:10000154-1788566400-1788652799@firstserve-tournaments.de
SUMMARY:First Serve Tournaments LK Turnier @Odenkirchener TC
DESCRIPTION:Anmeldung & Informationen
URL:https://firstserve-tournaments.de/event/first-serve-tournaments-lk-turnier-odenkirchener-tc-3/
LOCATION:Odenkirchener Tennisclub\, Kochschulstr. 54\, Mönchengladbach\, Nordrhein-Westfalen\, 41199\, Deutschland
END:VEVENT
BEGIN:VEVENT
DTSTART;VALUE=DATE:20260911
DTEND;VALUE=DATE:20260914
DTSTAMP:20260419T122318
CREATED:20260227T140423Z
LAST-MODIFIED:20260327T142116Z
UID:10000155-1789084800-1789343999@firstserve-tournaments.de
SUMMARY:FirstServe Masters 2026
DESCRIPTION:Anmeldung & Informationen
URL:https://firstserve-tournaments.de/event/firstserve-masters-2026/
END:VEVENT
BEGIN:VEVENT
DTSTART;VALUE=DATE:20260925
DTEND;VALUE=DATE:20261003
DTSTAMP:20260419T122318
CREATED:20251029T094933Z
LAST-MODIFIED:20260302T131803Z
UID:10000107-1790294400-1790985599@firstserve-tournaments.de
SUMMARY:Robinson Club Kyllini Beach
DESCRIPTION:Jetzt Reise buchen
URL:https://firstserve-tournaments.de/event/robinson-club-kyllini-beach-2/
CATEGORIES:Robinson Event
END:VEVENT
END:VCALENDAR