BEGIN:VCALENDAR
VERSION:2.0
PRODID:-//Firstserve Tournaments - ECPv6.15.14//NONSGML v1.0//EN
CALSCALE:GREGORIAN
METHOD:PUBLISH
X-ORIGINAL-URL:https://firstserve-tournaments.de
X-WR-CALDESC:Veranstaltungen für Firstserve Tournaments
REFRESH-INTERVAL;VALUE=DURATION:PT1H
X-Robots-Tag:noindex
X-PUBLISHED-TTL:PT1H
BEGIN:VTIMEZONE
TZID:UTC
BEGIN:STANDARD
TZOFFSETFROM:+0000
TZOFFSETTO:+0000
TZNAME:UTC
DTSTART:20250101T000000
END:STANDARD
END:VTIMEZONE
BEGIN:VEVENT
DTSTART;VALUE=DATE:20260412
DTEND;VALUE=DATE:20260413
DTSTAMP:20260419T123208
CREATED:20260227T131258Z
LAST-MODIFIED:20260327T141721Z
UID:10000141-1775952000-1776038399@firstserve-tournaments.de
SUMMARY:First Serve Tournaments LK Turnier @Gladbacher Hockey- und Tennis Club (GHTC)
DESCRIPTION:Anmeldung & Informationen
URL:https://firstserve-tournaments.de/event/first-serve-tournaments-lk-turnier-gladbacher-hockey-und-tennis-club-ghtc/
LOCATION:Gladbacher Hockey- und Tennisclub\, An den Holter Sportstätten 11\, Mönchengladbach\, Nordrhein-Westfalen\, 41069\, Deutschland
END:VEVENT
BEGIN:VEVENT
DTSTART;VALUE=DATE:20260411
DTEND;VALUE=DATE:20260412
DTSTAMP:20260419T123208
CREATED:20260227T131029Z
LAST-MODIFIED:20260327T141659Z
UID:10000140-1775865600-1775951999@firstserve-tournaments.de
SUMMARY:First Serve Tournaments LK Turnier @Odenkirchener TC
DESCRIPTION:Anmeldung & Informationen
URL:https://firstserve-tournaments.de/event/first-serve-tournaments-lk-turnier-odenkirchener-tc/
LOCATION:Odenkirchener Tennisclub\, Kochschulstr. 54\, Mönchengladbach\, Nordrhein-Westfalen\, 41199\, Deutschland
END:VEVENT
BEGIN:VEVENT
DTSTART;VALUE=DATE:20260330
DTEND;VALUE=DATE:20260331
DTSTAMP:20260419T123208
CREATED:20260116T142942Z
LAST-MODIFIED:20260116T142942Z
UID:10000118-1774828800-1774915199@firstserve-tournaments.de
SUMMARY:First Serve Tournaments „Manic Monday“@Matchpoint MG
DESCRIPTION:Anmeldung & Informationen
URL:https://firstserve-tournaments.de/event/first-serve-tournaments-manic-mondaymatchpoint-mg/
LOCATION:Matchpoint MG\, Duvenstr. 269\, Mönchengladbach\, Nordrhein-Westfalen\, 41199\, Germany
END:VEVENT
BEGIN:VEVENT
DTSTART;VALUE=DATE:20260329
DTEND;VALUE=DATE:20260330
DTSTAMP:20260419T123208
CREATED:20260116T142857Z
LAST-MODIFIED:20260116T142857Z
UID:10000117-1774742400-1774828799@firstserve-tournaments.de
SUMMARY:First Serve Tournaments Hallen-LK Turnier @Matchpoint MG/ RIMA Halle/ Giesenkirchen
DESCRIPTION:Anmeldung & Informationen
URL:https://firstserve-tournaments.de/event/first-serve-tournaments-hallen-lk-turnier-matchpoint-mg-rima-halle-giesenkirchen-15/
LOCATION:Matchpoint MG\, Duvenstr. 269\, Mönchengladbach\, Nordrhein-Westfalen\, 41199\, Germany
END:VEVENT
BEGIN:VEVENT
DTSTART;VALUE=DATE:20260328
DTEND;VALUE=DATE:20260329
DTSTAMP:20260419T123208
CREATED:20260116T144731Z
LAST-MODIFIED:20260116T144731Z
UID:10000138-1774656000-1774742399@firstserve-tournaments.de
SUMMARY:First Serve Tournaments Hallen-LK Turnier @Matchpoint MG/ RIMA Halle/ Giesenkirchen
DESCRIPTION:Anmeldung & Informationen
URL:https://firstserve-tournaments.de/event/first-serve-tournaments-hallen-lk-turnier-matchpoint-mg-rima-halle-giesenkirchen-17/
LOCATION:Matchpoint MG\, Duvenstr. 269\, Mönchengladbach\, Nordrhein-Westfalen\, 41199\, Germany
END:VEVENT
BEGIN:VEVENT
DTSTART;VALUE=DATE:20260327
DTEND;VALUE=DATE:20260328
DTSTAMP:20260419T123208
CREATED:20260116T144414Z
LAST-MODIFIED:20260116T144414Z
UID:10000136-1774569600-1774655999@firstserve-tournaments.de
SUMMARY:First Serve Tournaments „Freaky Friday“ @Tennishalle Giesenkirchen
DESCRIPTION:Anmeldung & Informationen
URL:https://firstserve-tournaments.de/event/first-serve-tournaments-freaky-friday-tennishalle-giesenkirchen-16/
LOCATION:TC Giesenkirchen\, Trimpelshütter Str. 34C\, Mönchengladbach\, Nordrhein-Westfalen\, 41238
END:VEVENT
BEGIN:VEVENT
DTSTART;VALUE=DATE:20260323
DTEND;VALUE=DATE:20260324
DTSTAMP:20260419T123208
CREATED:20260116T144253Z
LAST-MODIFIED:20260116T144253Z
UID:10000134-1774224000-1774310399@firstserve-tournaments.de
SUMMARY:First Serve Tournaments „Manic Monday“@Matchpoint MG
DESCRIPTION:Anmeldung & Informationen
URL:https://firstserve-tournaments.de/event/first-serve-tournaments-manic-mondaymatchpoint-mg-17/
LOCATION:Matchpoint MG\, Duvenstr. 269\, Mönchengladbach\, Nordrhein-Westfalen\, 41199\, Germany
END:VEVENT
BEGIN:VEVENT
DTSTART;VALUE=DATE:20260320
DTEND;VALUE=DATE:20260321
DTSTAMP:20260419T123208
CREATED:20260116T144148Z
LAST-MODIFIED:20260116T144148Z
UID:10000137-1773964800-1774051199@firstserve-tournaments.de
SUMMARY:First Serve Tournaments „Freaky Friday“ @Tennishalle Giesenkirchen
DESCRIPTION:Anmeldung & Informationen
URL:https://firstserve-tournaments.de/event/first-serve-tournaments-freaky-friday-tennishalle-giesenkirchen-15/
LOCATION:TC Giesenkirchen\, Trimpelshütter Str. 34C\, Mönchengladbach\, Nordrhein-Westfalen\, 41238
END:VEVENT
BEGIN:VEVENT
DTSTART;VALUE=DATE:20260316
DTEND;VALUE=DATE:20260317
DTSTAMP:20260419T123208
CREATED:20260116T144118Z
LAST-MODIFIED:20260116T144118Z
UID:10000135-1773619200-1773705599@firstserve-tournaments.de
SUMMARY:First Serve Tournaments „Manic Monday“@Matchpoint MG
DESCRIPTION:Anmeldung & Informationen
URL:https://firstserve-tournaments.de/event/first-serve-tournaments-manic-mondaymatchpoint-mg-16/
LOCATION:Matchpoint MG\, Duvenstr. 269\, Mönchengladbach\, Nordrhein-Westfalen\, 41199\, Germany
END:VEVENT
BEGIN:VEVENT
DTSTART;VALUE=DATE:20260313
DTEND;VALUE=DATE:20260314
DTSTAMP:20260419T123208
CREATED:20260116T144039Z
LAST-MODIFIED:20260116T144039Z
UID:10000130-1773360000-1773446399@firstserve-tournaments.de
SUMMARY:First Serve Tournaments „Freaky Friday“ @Tennishalle Giesenkirchen
DESCRIPTION:Anmeldung & Informationen
URL:https://firstserve-tournaments.de/event/first-serve-tournaments-freaky-friday-tennishalle-giesenkirchen-14/
LOCATION:TC Giesenkirchen\, Trimpelshütter Str. 34C\, Mönchengladbach\, Nordrhein-Westfalen\, 41238
END:VEVENT
BEGIN:VEVENT
DTSTART;VALUE=DATE:20260309
DTEND;VALUE=DATE:20260310
DTSTAMP:20260419T123208
CREATED:20260116T144002Z
LAST-MODIFIED:20260116T144002Z
UID:10000133-1773014400-1773100799@firstserve-tournaments.de
SUMMARY:First Serve Tournaments „Manic Monday“@Matchpoint MG
DESCRIPTION:Anmeldung & Informationen
URL:https://firstserve-tournaments.de/event/first-serve-tournaments-manic-mondaymatchpoint-mg-15/
LOCATION:Matchpoint MG\, Duvenstr. 269\, Mönchengladbach\, Nordrhein-Westfalen\, 41199\, Germany
END:VEVENT
BEGIN:VEVENT
DTSTART;VALUE=DATE:20260306
DTEND;VALUE=DATE:20260307
DTSTAMP:20260419T123208
CREATED:20260116T143915Z
LAST-MODIFIED:20260116T143915Z
UID:10000132-1772755200-1772841599@firstserve-tournaments.de
SUMMARY:First Serve Tournaments „Freaky Friday“ @Tennishalle Giesenkirchen
DESCRIPTION:Anmeldung & Informationen
URL:https://firstserve-tournaments.de/event/first-serve-tournaments-freaky-friday-tennishalle-giesenkirchen-13/
LOCATION:TC Giesenkirchen\, Trimpelshütter Str. 34C\, Mönchengladbach\, Nordrhein-Westfalen\, 41238
END:VEVENT
BEGIN:VEVENT
DTSTART;VALUE=DATE:20260302
DTEND;VALUE=DATE:20260303
DTSTAMP:20260419T123208
CREATED:20260116T143834Z
LAST-MODIFIED:20260116T143834Z
UID:10000131-1772409600-1772495999@firstserve-tournaments.de
SUMMARY:First Serve Tournaments „Manic Monday“@Matchpoint MG
DESCRIPTION:Anmeldung & Informationen
URL:https://firstserve-tournaments.de/event/first-serve-tournaments-manic-mondaymatchpoint-mg-14/
LOCATION:Matchpoint MG\, Duvenstr. 269\, Mönchengladbach\, Nordrhein-Westfalen\, 41199\, Germany
END:VEVENT
BEGIN:VEVENT
DTSTART;VALUE=DATE:20260227
DTEND;VALUE=DATE:20260228
DTSTAMP:20260419T123208
CREATED:20260116T143741Z
LAST-MODIFIED:20260116T143741Z
UID:10000129-1772150400-1772236799@firstserve-tournaments.de
SUMMARY:First Serve Tournaments „Freaky Friday“ @Tennishalle Giesenkirchen
DESCRIPTION:Anmeldung & Informationen
URL:https://firstserve-tournaments.de/event/first-serve-tournaments-freaky-friday-tennishalle-giesenkirchen-12/
LOCATION:TC Giesenkirchen\, Trimpelshütter Str. 34C\, Mönchengladbach\, Nordrhein-Westfalen\, 41238
END:VEVENT
BEGIN:VEVENT
DTSTART;VALUE=DATE:20260223
DTEND;VALUE=DATE:20260224
DTSTAMP:20260419T123208
CREATED:20260116T143659Z
LAST-MODIFIED:20260116T143659Z
UID:10000128-1771804800-1771891199@firstserve-tournaments.de
SUMMARY:First Serve Tournaments „Manic Monday“@Matchpoint MG
DESCRIPTION:Anmeldung & Informationen
URL:https://firstserve-tournaments.de/event/first-serve-tournaments-manic-mondaymatchpoint-mg-13/
LOCATION:Matchpoint MG\, Duvenstr. 269\, Mönchengladbach\, Nordrhein-Westfalen\, 41199\, Germany
END:VEVENT
BEGIN:VEVENT
DTSTART;VALUE=DATE:20260220
DTEND;VALUE=DATE:20260221
DTSTAMP:20260419T123208
CREATED:20260116T143617Z
LAST-MODIFIED:20260116T143617Z
UID:10000127-1771545600-1771631999@firstserve-tournaments.de
SUMMARY:First Serve Tournaments „Freaky Friday“ @Tennishalle Giesenkirchen
DESCRIPTION:Anmeldung & Informationen
URL:https://firstserve-tournaments.de/event/first-serve-tournaments-freaky-friday-tennishalle-giesenkirchen-11/
LOCATION:TC Giesenkirchen\, Trimpelshütter Str. 34C\, Mönchengladbach\, Nordrhein-Westfalen\, 41238
END:VEVENT
BEGIN:VEVENT
DTSTART;VALUE=DATE:20260216
DTEND;VALUE=DATE:20260217
DTSTAMP:20260419T123208
CREATED:20260116T143548Z
LAST-MODIFIED:20260116T143548Z
UID:10000126-1771200000-1771286399@firstserve-tournaments.de
SUMMARY:First Serve Tournaments „Manic Monday“@Matchpoint MG
DESCRIPTION:Anmeldung & Informationen
URL:https://firstserve-tournaments.de/event/first-serve-tournaments-manic-mondaymatchpoint-mg-12/
LOCATION:Matchpoint MG\, Duvenstr. 269\, Mönchengladbach\, Nordrhein-Westfalen\, 41199\, Germany
END:VEVENT
BEGIN:VEVENT
DTSTART;VALUE=DATE:20260215
DTEND;VALUE=DATE:20260216
DTSTAMP:20260419T123208
CREATED:20260122T134746Z
LAST-MODIFIED:20260122T134836Z
UID:10000139-1771113600-1771199999@firstserve-tournaments.de
SUMMARY:FirstServeTournaments Einzel Hallen Turnier @RTHC Leverkusen
DESCRIPTION:Anmeldung & Informationen
URL:https://firstserve-tournaments.de/event/firstservetournaments-einzel-hallen-turnier-rthc-leverkusen-2/
LOCATION:RTHC Leverkusen\, Knochenbergsweg\, Leverkusen\, Nordrhein-Westfalen\, 51373\, Germany
END:VEVENT
BEGIN:VEVENT
DTSTART;VALUE=DATE:20260215
DTEND;VALUE=DATE:20260216
DTSTAMP:20260419T123208
CREATED:20260116T143512Z
LAST-MODIFIED:20260116T143512Z
UID:10000125-1771113600-1771199999@firstserve-tournaments.de
SUMMARY:First Serve Tournaments Hallen-LK Turnier @Matchpoint MG/ RIMA Halle/ Giesenkirchen
DESCRIPTION:Anmeldung & Informationen
URL:https://firstserve-tournaments.de/event/first-serve-tournaments-hallen-lk-turnier-matchpoint-mg-rima-halle-giesenkirchen-16/
LOCATION:Matchpoint MG\, Duvenstr. 269\, Mönchengladbach\, Nordrhein-Westfalen\, 41199\, Germany
END:VEVENT
BEGIN:VEVENT
DTSTART;VALUE=DATE:20260215
DTEND;VALUE=DATE:20260216
DTSTAMP:20260419T123208
CREATED:20251028T104027Z
LAST-MODIFIED:20251028T104027Z
UID:10000105-1771113600-1771199999@firstserve-tournaments.de
SUMMARY:FirstServeTournaments Einzel Hallen LK Turnier @Loherhof
DESCRIPTION:Anmeldung & Informationen
URL:https://firstserve-tournaments.de/event/firstservetournaments-einzel-hallen-lk-turnier-loherhof-5/
LOCATION:Loherhof Geilenkirchen\, Pater-Briers-Weg 85\, Geilenkirchen\, 52511\, Germany
END:VEVENT
BEGIN:VEVENT
DTSTART;VALUE=DATE:20260214
DTEND;VALUE=DATE:20260215
DTSTAMP:20260419T123208
CREATED:20260116T143416Z
LAST-MODIFIED:20260116T143416Z
UID:10000123-1771027200-1771113599@firstserve-tournaments.de
SUMMARY:First Serve Tournaments Hallen Mixed LK Turnier@Matchpoint MG/ RIMA Halle/ Giesenkirchen
DESCRIPTION:Anmeldung & Informationen
URL:https://firstserve-tournaments.de/event/first-serve-tournaments-hallen-mixed-lk-turniermatchpoint-mg-rima-halle-giesenkirchen/
LOCATION:Matchpoint MG\, Duvenstr. 269\, Mönchengladbach\, Nordrhein-Westfalen\, 41199\, Germany
END:VEVENT
BEGIN:VEVENT
DTSTART;VALUE=DATE:20260214
DTEND;VALUE=DATE:20260215
DTSTAMP:20260419T123208
CREATED:20251212T125002Z
LAST-MODIFIED:20251212T125002Z
UID:10000110-1771027200-1771113599@firstserve-tournaments.de
SUMMARY:First Serve Tournaments Hallen-LK Turnier @Matchpoint MG/ RIMA Halle/ Giesenkirchen
DESCRIPTION:Anmeldung & Informationen
URL:https://firstserve-tournaments.de/event/first-serve-tournaments-hallen-lk-turnier-matchpoint-mg-rima-halle-giesenkirchen-10/
LOCATION:TC Giesenkirchen\, Trimpelshütter Str. 34C\, Mönchengladbach\, Nordrhein-Westfalen\, 41238
END:VEVENT
BEGIN:VEVENT
DTSTART;VALUE=DATE:20260213
DTEND;VALUE=DATE:20260214
DTSTAMP:20260419T123208
CREATED:20260116T143336Z
LAST-MODIFIED:20260116T143336Z
UID:10000122-1770940800-1771027199@firstserve-tournaments.de
SUMMARY:First Serve Tournaments „Freaky Friday“ @Tennishalle Giesenkirchen
DESCRIPTION:Anmeldung & Informationen
URL:https://firstserve-tournaments.de/event/first-serve-tournaments-freaky-friday-tennishalle-giesenkirchen-10/
LOCATION:TC Giesenkirchen\, Trimpelshütter Str. 34C\, Mönchengladbach\, Nordrhein-Westfalen\, 41238
END:VEVENT
BEGIN:VEVENT
DTSTART;VALUE=DATE:20260209
DTEND;VALUE=DATE:20260210
DTSTAMP:20260419T123208
CREATED:20260116T143244Z
LAST-MODIFIED:20260116T143244Z
UID:10000121-1770595200-1770681599@firstserve-tournaments.de
SUMMARY:First Serve Tournaments „Manic Monday“@Matchpoint MG
DESCRIPTION:Anmeldung & Informationen
URL:https://firstserve-tournaments.de/event/first-serve-tournaments-manic-mondaymatchpoint-mg-11/
LOCATION:Matchpoint MG\, Duvenstr. 269\, Mönchengladbach\, Nordrhein-Westfalen\, 41199\, Germany
END:VEVENT
BEGIN:VEVENT
DTSTART;VALUE=DATE:20260206
DTEND;VALUE=DATE:20260207
DTSTAMP:20260419T123208
CREATED:20260116T143208Z
LAST-MODIFIED:20260116T143208Z
UID:10000120-1770336000-1770422399@firstserve-tournaments.de
SUMMARY:First Serve Tournaments „Freaky Friday“ @Tennishalle Giesenkirchen
DESCRIPTION:Anmeldung & Informationen
URL:https://firstserve-tournaments.de/event/first-serve-tournaments-freaky-friday-tennishalle-giesenkirchen-9/
LOCATION:TC Giesenkirchen\, Trimpelshütter Str. 34C\, Mönchengladbach\, Nordrhein-Westfalen\, 41238
END:VEVENT
BEGIN:VEVENT
DTSTART;VALUE=DATE:20260202
DTEND;VALUE=DATE:20260203
DTSTAMP:20260419T123208
CREATED:20260116T143112Z
LAST-MODIFIED:20260116T143112Z
UID:10000119-1769990400-1770076799@firstserve-tournaments.de
SUMMARY:First Serve Tournaments „Manic Monday“@Matchpoint MG
DESCRIPTION:Anmeldung & Informationen
URL:https://firstserve-tournaments.de/event/first-serve-tournaments-manic-mondaymatchpoint-mg-10/
LOCATION:Matchpoint MG\, Duvenstr. 269\, Mönchengladbach\, Nordrhein-Westfalen\, 41199\, Germany
END:VEVENT
BEGIN:VEVENT
DTSTART;VALUE=DATE:20260201
DTEND;VALUE=DATE:20260202
DTSTAMP:20260419T123208
CREATED:20260116T142557Z
LAST-MODIFIED:20260116T142557Z
UID:10000116-1769904000-1769990399@firstserve-tournaments.de
SUMMARY:First Serve Tournaments Hallen-LK Turnier @Matchpoint MG/ RIMA Halle/ Giesenkirchen
DESCRIPTION:Anmeldung & Informationen
URL:https://firstserve-tournaments.de/event/first-serve-tournaments-hallen-lk-turnier-matchpoint-mg-rima-halle-giesenkirchen-14/
LOCATION:Matchpoint MG\, Duvenstr. 269\, Mönchengladbach\, Nordrhein-Westfalen\, 41199\, Germany
END:VEVENT
BEGIN:VEVENT
DTSTART;VALUE=DATE:20260125
DTEND;VALUE=DATE:20260126
DTSTAMP:20260419T123208
CREATED:20260116T142503Z
LAST-MODIFIED:20260116T142503Z
UID:10000115-1769299200-1769385599@firstserve-tournaments.de
SUMMARY:First Serve Tournaments Hallen-LK Turnier @Matchpoint MG/ RIMA Halle/ Giesenkirchen
DESCRIPTION:Anmeldung & Informationen
URL:https://firstserve-tournaments.de/event/first-serve-tournaments-hallen-lk-turnier-matchpoint-mg-rima-halle-giesenkirchen-13/
LOCATION:Matchpoint MG\, Duvenstr. 269\, Mönchengladbach\, Nordrhein-Westfalen\, 41199\, Germany
END:VEVENT
BEGIN:VEVENT
DTSTART;VALUE=DATE:20260118
DTEND;VALUE=DATE:20260119
DTSTAMP:20260419T123208
CREATED:20251028T104006Z
LAST-MODIFIED:20251028T104006Z
UID:10000104-1768694400-1768780799@firstserve-tournaments.de
SUMMARY:FirstServeTournaments Einzel Hallen LK Turnier @Loherhof
DESCRIPTION:Anmeldung & Informationen
URL:https://firstserve-tournaments.de/event/firstservetournaments-einzel-hallen-lk-turnier-loherhof-4/
LOCATION:Loherhof Geilenkirchen\, Pater-Briers-Weg 85\, Geilenkirchen\, 52511\, Germany
END:VEVENT
BEGIN:VEVENT
DTSTART;VALUE=DATE:20260111
DTEND;VALUE=DATE:20260112
DTSTAMP:20260419T123208
CREATED:20251212T125426Z
LAST-MODIFIED:20251212T125426Z
UID:10000114-1768089600-1768175999@firstserve-tournaments.de
SUMMARY:First Serve Tournaments Hallen-LK Turnier @Matchpoint MG/ RIMA Halle/ Giesenkirchen
DESCRIPTION:Anmeldung & Informationen
URL:https://firstserve-tournaments.de/event/first-serve-tournaments-hallen-lk-turnier-matchpoint-mg-rima-halle-giesenkirchen-12/
LOCATION:Matchpoint MG\, Duvenstr. 269\, Mönchengladbach\, Nordrhein-Westfalen\, 41199\, Germany
END:VEVENT
END:VCALENDAR