BEGIN:VCALENDAR
VERSION:2.0
PRODID:-//Firstserve Tournaments - ECPv6.15.14//NONSGML v1.0//EN
CALSCALE:GREGORIAN
METHOD:PUBLISH
X-WR-CALNAME:Firstserve Tournaments
X-ORIGINAL-URL:https://firstserve-tournaments.de
X-WR-CALDESC:Veranstaltungen für Firstserve Tournaments
REFRESH-INTERVAL;VALUE=DURATION:PT1H
X-Robots-Tag:noindex
X-PUBLISHED-TTL:PT1H
BEGIN:VTIMEZONE
TZID:UTC
BEGIN:STANDARD
TZOFFSETFROM:+0000
TZOFFSETTO:+0000
TZNAME:UTC
DTSTART:20250101T000000
END:STANDARD
END:VTIMEZONE
BEGIN:VEVENT
DTSTART;VALUE=DATE:20260925
DTEND;VALUE=DATE:20261003
DTSTAMP:20260421T190414
CREATED:20251029T094933Z
LAST-MODIFIED:20260302T131803Z
UID:10000107-1790294400-1790985599@firstserve-tournaments.de
SUMMARY:Robinson Club Kyllini Beach
DESCRIPTION:Jetzt Reise buchen
URL:https://firstserve-tournaments.de/event/robinson-club-kyllini-beach-2/
LOCATION:Nordrhein-Westfalen
CATEGORIES:Robinson Event
END:VEVENT
END:VCALENDAR