BEGIN:VCALENDAR
VERSION:2.0
PRODID:-//Firstserve Tournaments - ECPv6.15.14//NONSGML v1.0//EN
CALSCALE:GREGORIAN
METHOD:PUBLISH
X-ORIGINAL-URL:https://firstserve-tournaments.de
X-WR-CALDESC:Veranstaltungen für Firstserve Tournaments
REFRESH-INTERVAL;VALUE=DURATION:PT1H
X-Robots-Tag:noindex
X-PUBLISHED-TTL:PT1H
BEGIN:VTIMEZONE
TZID:UTC
BEGIN:STANDARD
TZOFFSETFROM:+0000
TZOFFSETTO:+0000
TZNAME:UTC
DTSTART:20250101T000000
END:STANDARD
END:VTIMEZONE
BEGIN:VEVENT
DTSTART;VALUE=DATE:20260522
DTEND;VALUE=DATE:20260530
DTSTAMP:20260421T121356
CREATED:20251029T094848Z
LAST-MODIFIED:20251119T151612Z
UID:10000108-1779408000-1780099199@firstserve-tournaments.de
SUMMARY:Robinson Club Kyllini Beach
DESCRIPTION:Jetzt Reise buchen
URL:https://firstserve-tournaments.de/event/robinson-club-kyllini-beach/
LOCATION:Nordrhein-Westfalen
CATEGORIES:Robinson Event
END:VEVENT
BEGIN:VEVENT
DTSTART;VALUE=DATE:20260524
DTEND;VALUE=DATE:20260525
DTSTAMP:20260421T121356
CREATED:20260227T131405Z
LAST-MODIFIED:20260327T141757Z
UID:10000143-1779580800-1779667199@firstserve-tournaments.de
SUMMARY:First Serve Tournaments LK Turnier @TC Giesenkirchen
DESCRIPTION:Anmeldung & Informationen
URL:https://firstserve-tournaments.de/event/first-serve-tournaments-lk-turnier-tc-giesenkirchen/
LOCATION:TC Giesenkirchen\, Trimpelshütter Str. 34C\, Mönchengladbach\, Nordrhein-Westfalen\, 41238
END:VEVENT
END:VCALENDAR