BEGIN:VCALENDAR
VERSION:2.0
PRODID:-//Firstserve Tournaments - ECPv6.15.14//NONSGML v1.0//EN
CALSCALE:GREGORIAN
METHOD:PUBLISH
X-WR-CALNAME:Firstserve Tournaments
X-ORIGINAL-URL:https://firstserve-tournaments.de
X-WR-CALDESC:Veranstaltungen für Firstserve Tournaments
REFRESH-INTERVAL;VALUE=DURATION:PT1H
X-Robots-Tag:noindex
X-PUBLISHED-TTL:PT1H
BEGIN:VTIMEZONE
TZID:UTC
BEGIN:STANDARD
TZOFFSETFROM:+0000
TZOFFSETTO:+0000
TZNAME:UTC
DTSTART:20250101T000000
END:STANDARD
END:VTIMEZONE
BEGIN:VEVENT
DTSTART;VALUE=DATE:20260104
DTEND;VALUE=DATE:20260105
DTSTAMP:20260422T205844
CREATED:20251028T103949Z
LAST-MODIFIED:20251028T103949Z
UID:10000103-1767484800-1767571199@firstserve-tournaments.de
SUMMARY:FirstServeTournaments Einzel Hallen LK Turnier @Loherhof
DESCRIPTION:Anmeldung & Informationen
URL:https://firstserve-tournaments.de/event/firstservetournaments-einzel-hallen-lk-turnier-loherhof-3/
LOCATION:Loherhof Geilenkirchen\, Pater-Briers-Weg 85\, Geilenkirchen\, 52511\, Germany
END:VEVENT
BEGIN:VEVENT
DTSTART;VALUE=DATE:20260104
DTEND;VALUE=DATE:20260105
DTSTAMP:20260422T205844
CREATED:20251212T125208Z
LAST-MODIFIED:20251212T125208Z
UID:10000112-1767484800-1767571199@firstserve-tournaments.de
SUMMARY:First Serve Tournaments Hallen-Mixed LK Turnier @Matchpoint MG/ RIMA Halle/ Giesenkirchen
DESCRIPTION:Anmeldung & Informationen
URL:https://firstserve-tournaments.de/event/first-serve-tournaments-hallen-mixed-lk-turnier-matchpoint-mg-rima-halle-giesenkirchen-2/
LOCATION:Matchpoint MG\, Duvenstr. 269\, Mönchengladbach\, Nordrhein-Westfalen\, 41199\, Germany
END:VEVENT
BEGIN:VEVENT
DTSTART;VALUE=DATE:20260104
DTEND;VALUE=DATE:20260105
DTSTAMP:20260422T205844
CREATED:20251212T125329Z
LAST-MODIFIED:20251212T125329Z
UID:10000113-1767484800-1767571199@firstserve-tournaments.de
SUMMARY:FirstServeTournaments Einzel Hallen Turnier @RTHC Leverkusen
DESCRIPTION:Anmeldung & Informationen
URL:https://firstserve-tournaments.de/event/firstservetournaments-einzel-hallen-turnier-rthc-leverkusen/
LOCATION:RTHC Leverkusen\, Knochenbergsweg\, Leverkusen\, Nordrhein-Westfalen\, 51373\, Germany
END:VEVENT
END:VCALENDAR