BEGIN:VCALENDAR
VERSION:2.0
PRODID:-//Firstserve Tournaments - ECPv6.15.14//NONSGML v1.0//EN
CALSCALE:GREGORIAN
METHOD:PUBLISH
X-ORIGINAL-URL:https://firstserve-tournaments.de
X-WR-CALDESC:Veranstaltungen für Firstserve Tournaments
REFRESH-INTERVAL;VALUE=DURATION:PT1H
X-Robots-Tag:noindex
X-PUBLISHED-TTL:PT1H
BEGIN:VTIMEZONE
TZID:UTC
BEGIN:STANDARD
TZOFFSETFROM:+0000
TZOFFSETTO:+0000
TZNAME:UTC
DTSTART:20240101T000000
END:STANDARD
END:VTIMEZONE
BEGIN:VEVENT
DTSTART;VALUE=DATE:20251020
DTEND;VALUE=DATE:20251021
DTSTAMP:20260422T173338
CREATED:20250919T144903Z
LAST-MODIFIED:20250919T144903Z
UID:10000082-1760918400-1761004799@firstserve-tournaments.de
SUMMARY:First Serve Tournaments „Manic Monday“@Matchpoint MG
DESCRIPTION:Anmeldung & Informationen
URL:https://firstserve-tournaments.de/event/first-serve-tournaments-manic-mondaymatchpoint-mg-4/
LOCATION:Matchpoint MG\, Duvenstr. 269\, Mönchengladbach\, Nordrhein-Westfalen\, 41199\, Germany
END:VEVENT
END:VCALENDAR