BEGIN:VCALENDAR
VERSION:2.0
PRODID:-//Firstserve Tournaments - ECPv6.15.14//NONSGML v1.0//EN
CALSCALE:GREGORIAN
METHOD:PUBLISH
X-ORIGINAL-URL:https://firstserve-tournaments.de
X-WR-CALDESC:Veranstaltungen für Firstserve Tournaments
REFRESH-INTERVAL;VALUE=DURATION:PT1H
X-Robots-Tag:noindex
X-PUBLISHED-TTL:PT1H
BEGIN:VTIMEZONE
TZID:UTC
BEGIN:STANDARD
TZOFFSETFROM:+0000
TZOFFSETTO:+0000
TZNAME:UTC
DTSTART:20240101T000000
END:STANDARD
END:VTIMEZONE
BEGIN:VEVENT
DTSTART;VALUE=DATE:20250926
DTEND;VALUE=DATE:20251004
DTSTAMP:20260422T154921
CREATED:20250117T143916Z
LAST-MODIFIED:20250221T122554Z
UID:10000046-1758844800-1759535999@firstserve-tournaments.de
SUMMARY:LK Turnier Robinson Club Kyllini Beach
DESCRIPTION:DTB AnmeldungZur Buchung
URL:https://firstserve-tournaments.de/event/lk-turnier-robinson-club-kyllini-beach-4/
LOCATION:Nordrhein-Westfalen
END:VEVENT
END:VCALENDAR