BEGIN:VCALENDAR
VERSION:2.0
PRODID:-//Firstserve Tournaments - ECPv6.15.14//NONSGML v1.0//EN
CALSCALE:GREGORIAN
METHOD:PUBLISH
X-WR-CALNAME:Firstserve Tournaments
X-ORIGINAL-URL:https://firstserve-tournaments.de
X-WR-CALDESC:Veranstaltungen für Firstserve Tournaments
REFRESH-INTERVAL;VALUE=DURATION:PT1H
X-Robots-Tag:noindex
X-PUBLISHED-TTL:PT1H
BEGIN:VTIMEZONE
TZID:UTC
BEGIN:STANDARD
TZOFFSETFROM:+0000
TZOFFSETTO:+0000
TZNAME:UTC
DTSTART:20240101T000000
END:STANDARD
END:VTIMEZONE
BEGIN:VEVENT
DTSTART;VALUE=DATE:20250915
DTEND;VALUE=DATE:20250922
DTSTAMP:20260422T160357
CREATED:20250117T144155Z
LAST-MODIFIED:20250320T153327Z
UID:10000048-1757894400-1758499199@firstserve-tournaments.de
SUMMARY:LK Turnier Robinson Club Pamfilya
DESCRIPTION:DTB AnmeldungZur Buchung
URL:https://firstserve-tournaments.de/event/lk-turnier-robinson-club-pamfilya-2/
LOCATION:Nordrhein-Westfalen
END:VEVENT
BEGIN:VEVENT
DTSTART;VALUE=DATE:20250915
DTEND;VALUE=DATE:20250922
DTSTAMP:20260422T160357
CREATED:20250221T124112Z
LAST-MODIFIED:20250319T153240Z
UID:10000051-1757894400-1758499199@firstserve-tournaments.de
SUMMARY:Robinson Club Apulia
DESCRIPTION:DTB AnmeldungZur Buchung
URL:https://firstserve-tournaments.de/event/robinson-club-apulia/
LOCATION:Nordrhein-Westfalen
END:VEVENT
END:VCALENDAR