BEGIN:VCALENDAR
VERSION:2.0
PRODID:-//Firstserve Tournaments - ECPv6.15.14//NONSGML v1.0//EN
CALSCALE:GREGORIAN
METHOD:PUBLISH
X-WR-CALNAME:Firstserve Tournaments
X-ORIGINAL-URL:https://firstserve-tournaments.de
X-WR-CALDESC:Veranstaltungen für Firstserve Tournaments
REFRESH-INTERVAL;VALUE=DURATION:PT1H
X-Robots-Tag:noindex
X-PUBLISHED-TTL:PT1H
BEGIN:VTIMEZONE
TZID:UTC
BEGIN:STANDARD
TZOFFSETFROM:+0000
TZOFFSETTO:+0000
TZNAME:UTC
DTSTART:20240101T000000
END:STANDARD
END:VTIMEZONE
BEGIN:VEVENT
DTSTART;VALUE=DATE:20250822
DTEND;VALUE=DATE:20250825
DTSTAMP:20260422T141649
CREATED:20250728T124324Z
LAST-MODIFIED:20250728T124324Z
UID:10000071-1755820800-1756079999@firstserve-tournaments.de
SUMMARY:First Serve Tournaments Einzel LK Turnier @ Hülser SV
DESCRIPTION:Anmeldung & Informationen
URL:https://firstserve-tournaments.de/event/first-serve-tournaments-einzel-lk-turnier-huelser-sv/
LOCATION:Hülser SV\, Hölschen Dyk\, Krefeld\, Nordrhein-Westfalen\, 47839\, Germany
END:VEVENT
BEGIN:VEVENT
DTSTART;VALUE=DATE:20250824
DTEND;VALUE=DATE:20250825
DTSTAMP:20260422T141649
CREATED:20250425T102051Z
LAST-MODIFIED:20250425T102051Z
UID:10000065-1755993600-1756079999@firstserve-tournaments.de
SUMMARY:First Serve Tournaments LK Turnier @Viersener Tennis- und Hockey Club (VTHC)
DESCRIPTION:Anmeldung & Informationen
URL:https://firstserve-tournaments.de/event/first-serve-tournaments-lk-turnier-viersener-tennis-und-hockey-club-vthc-2/
LOCATION:Viersener Tennis- und Hockeyclub\, Bebericher Str. 70\, Viersen\, 41748
END:VEVENT
END:VCALENDAR